BEGIN:VCALENDAR
VERSION:2.0
PRODID:-//Democrats To Go - ECPv6.15.20//NONSGML v1.0//EN
CALSCALE:GREGORIAN
METHOD:PUBLISH
X-ORIGINAL-URL:https://democratstogo.alexdems.org
X-WR-CALDESC:Events for Democrats To Go
REFRESH-INTERVAL;VALUE=DURATION:PT1H
X-Robots-Tag:noindex
X-PUBLISHED-TTL:PT1H
BEGIN:VTIMEZONE
TZID:UTC
BEGIN:STANDARD
TZOFFSETFROM:+0000
TZOFFSETTO:+0000
TZNAME:UTC
DTSTART:20170101T000000
END:STANDARD
END:VTIMEZONE
BEGIN:VEVENT
DTSTART;TZID=UTC:20180602T170000
DTEND;TZID=UTC:20180602T190000
DTSTAMP:20260423T204458
CREATED:20180509T143935Z
LAST-MODIFIED:20180601T120104Z
UID:178-1527958800-1527966000@democratstogo.alexdems.org
SUMMARY:Dining for Delegates: Re-Elect Wendy Gooditis
DESCRIPTION:We worked so hard in 2017 to flip 15 House of Delegate seats in Virginia. Our fundraising and door knocking paid off\, but now we have to make sure we keep these great freshmen legislators in the House!! Join us in supporting one of our Delegate Mark Levine’s new friends\, the fabulous Wendy Gooditis! \nThe event will be held in Del Ray\, Alexandria (exact location on RSVP or email IDR.elections to RSVP & pay by check). \nThis early support not only helps free up Wendy’s time to be talking to voters instead of fundraising\, but it helps her hit the ground running in her re-election bid. \nWendy: \n\nhas a master’s in education\,\nis a strong supporter of education and Medicaid expansion\nfounded her local chapter of Indivisible\nis a very strong proponent of redistricting reform to end partisan gerrymandering in VA\nis predicted to have one of the toughest reelection campaigns in NOVA next year\, so early support like this is critical\nThe dinner theme is salad (Southwest chicken chop salad\, tomato and feta\, Chinese noodle\, just to name a few).\n\nClick the website link below to RSVP!
URL:https://democratstogo.alexdems.org/event/dining-for-delegates-re-elect-wendy-gooditis/
LOCATION:Del Ray (exact location upon RSVP)\, Alexandria\, VA\, United States
CATEGORIES:Fundraising
END:VEVENT
END:VCALENDAR