BEGIN:VCALENDAR
VERSION:2.0
PRODID:-//Democrats To Go - ECPv6.15.20//NONSGML v1.0//EN
CALSCALE:GREGORIAN
METHOD:PUBLISH
X-ORIGINAL-URL:https://democratstogo.alexdems.org
X-WR-CALDESC:Events for Democrats To Go
REFRESH-INTERVAL;VALUE=DURATION:PT1H
X-Robots-Tag:noindex
X-PUBLISHED-TTL:PT1H
BEGIN:VTIMEZONE
TZID:UTC
BEGIN:STANDARD
TZOFFSETFROM:+0000
TZOFFSETTO:+0000
TZNAME:UTC
DTSTART:20180101T000000
END:STANDARD
END:VTIMEZONE
BEGIN:VEVENT
DTSTART;TZID=UTC:20220525T193000
DTEND;TZID=UTC:20220525T210000
DTSTAMP:20260423T220444
CREATED:20220502T215323Z
LAST-MODIFIED:20220502T215323Z
UID:1093-1653507000-1653512400@democratstogo.alexdems.org
SUMMARY:Democrats To Go Strategic Roundtable
DESCRIPTION:You know that Reps. Elaine Luria and Abigail Spanberger of Virginia’s Second and Seventh Congressional Districts are running in two of the most important races of the 2022 midterms. But how well do you know their races? \nOn Wednesday\, May 25\, Democrats To Go will help you understand exactly what’s going on — and what we can expect when we volunteer — in the Second and Seventh. \nWe’re hosting a strategic roundtable discussion on Zoom\, featuring campaign managers from the Luria and Spanberger campaigns as well as knowledgeable volunteers who live in their congressional districts. \nThey will give us the lowdown on what is going on in both of these crucial races. \nWe’ll discuss the state of the races\, what issues and messaging are most important\, how the local political geography breaks down\, and how we’ll reach and activate voters. \nAnd we’ll also talk about what you can do to help these two great congressional representatives hold their seats in November. \nDon’t miss out — this will be an informative evening. It will start at 7:30 p.m. \nRegister via this Mobilize link\, and we’ll send the Zoom link closer to the event.
URL:https://democratstogo.alexdems.org/event/democrats-to-go-strategic-roundtable/
LOCATION:Virtual
CATEGORIES:Informational
ATTACH;FMTTYPE=image/jpeg:https://democratstogo.alexdems.org/wp-content/uploads/2020/05/elaine-luria-abigail-spanberger.jpg
END:VEVENT
BEGIN:VEVENT
DTSTART;TZID=UTC:20200729T193000
DTEND;TZID=UTC:20200729T203000
DTSTAMP:20260423T220444
CREATED:20200723T130052Z
LAST-MODIFIED:20200723T130242Z
UID:831-1596051000-1596054600@democratstogo.alexdems.org
SUMMARY:Democrats To Go Virtual Get-Together\, Part 2
DESCRIPTION:We will hold our second summer virtual get-together on Wednesday\, July 29 and we hope you will join us. \nOur primary focus will be the candidates we’ll support in the coming weeks. All attendees will have a chance to weigh in on that\, as well as any other topic they’d like to bring up. We think there’s a chance that some remote activism for Senate candidates outside of Virginia could be effective\, so we plan to weigh that along with the in-state races we’ll help. \nWe’ll meet via Zoom starting at 7:30 p.m. \nSign up for the meeting below; we will send the Zoom link to you via email closer to the event. \nSee you on the 29th! \n\n\n  \n\n\n\n Your Name (required)\n \n \n Your Email (required)\n \n \n Your Phone\n\n \n Any Additional Info\n \n \n\n \n\n\n\n 
URL:https://democratstogo.alexdems.org/event/democrats-to-go-virtual-get-together-part-2/
LOCATION:Virtual
CATEGORIES:Informational
ATTACH;FMTTYPE=image/jpeg:https://democratstogo.alexdems.org/wp-content/uploads/2020/06/zoom-mtg-2.jpg
END:VEVENT
BEGIN:VEVENT
DTSTART;TZID=UTC:20200615T193000
DTEND;TZID=UTC:20200615T203000
DTSTAMP:20260423T220444
CREATED:20200606T153846Z
LAST-MODIFIED:20200606T153846Z
UID:806-1592249400-1592253000@democratstogo.alexdems.org
SUMMARY:Democrats To Go Virtual Get-Together
DESCRIPTION:Let’s get together (virtually) and catch up on all that’s going on with the candidates and races we support\, our efforts\, the challenges we face and and our hopes for the next five months. \nWe’ll meet via Zoom on Monday\, June 15 at 7:30 p.m. \nDorathea and Jon will have some quick updates\, but the focus of this get-together will be on the members: All attendees will be invited to talk briefly about how they think Dems To Go should approach the rest of 2020\, what they have experienced while volunteering so far this year\, and any questions or comments they might have about our mission and related matters. \nSign up for the meeting below; we will send the Zoom link to you via email closer to the event. \nSee you on the 15th! \n\n\n  \n\n\n\n Your Name (required)\n \n \n Your Email (required)\n \n \n Your Phone\n\n \n Any Additional Info\n \n \n\n \n\n\n\n 
URL:https://democratstogo.alexdems.org/event/virtual-get-together-061520/
LOCATION:Virtual
CATEGORIES:Informational
ATTACH;FMTTYPE=image/jpeg:https://democratstogo.alexdems.org/wp-content/uploads/2020/06/zoom-mtg-2.jpg
END:VEVENT
BEGIN:VEVENT
DTSTART;TZID=UTC:20200224T193000
DTEND;TZID=UTC:20200224T210000
DTSTAMP:20260423T220444
CREATED:20200203T205313Z
LAST-MODIFIED:20200203T205407Z
UID:784-1582572600-1582578000@democratstogo.alexdems.org
SUMMARY:Democrats To Go Meeting: Monday\, Feb. 24
DESCRIPTION:Democrats To Go will firm up our 2020 plans on Monday\, Feb. 24\, at the ADC office in Old Town. We hope you can join us! \nCampaign liaisons will report back to us at this meeting with information on candidates we can help\, areas/tactics that could be most successful\, and ideas for our next steps. \nSign up using the form below — and feel free to bring a favorite snack or beverage. \nHope to see you there! \n\n\n  \n\n\n\n Your Name (required)\n \n \n Your Email (required)\n \n \n Your Phone\n\n \nDo You Need a Ride?\nYesNo\n \n Any Additional Info
URL:https://democratstogo.alexdems.org/event/meeting-feb-24/
LOCATION:ADC Headquarters\, 618 N. Washington St.\, Alexandria\, VA\, 22314
CATEGORIES:Informational
ATTACH;FMTTYPE=image/jpeg:https://democratstogo.alexdems.org/wp-content/uploads/2019/04/postcarders-april-13.jpg
END:VEVENT
BEGIN:VEVENT
DTSTART;TZID=UTC:20200127T193000
DTEND;TZID=UTC:20200127T210000
DTSTAMP:20260423T220444
CREATED:20200112T202331Z
LAST-MODIFIED:20200112T202331Z
UID:779-1580153400-1580158800@democratstogo.alexdems.org
SUMMARY:Dems To Go 2020 Planning Meeting
DESCRIPTION:We’ll gather at the ADC office in Old Town to discuss our priorities and plans for the coming year. \nWe hope you come with ideas of candidates to support\, districts or states to target\, and/or methods that can make us as successful as possible in 2020. \nWe expect to assign many volunteers some work to be done after the meeting — the legwork that will help us make the best decisions possible in 2020. \nSign up using the form below — and feel free to bring a favorite snack or beverage. \nHope to see you there! \n\n\n  \n\n\n\n Your Name (required)\n \n \n Your Email (required)\n \n \n Your Phone\n\n \nDo You Need a Ride?\nYesNo\n \n Any Additional Info
URL:https://democratstogo.alexdems.org/event/planning-meeting-2020/
LOCATION:ADC Headquarters\, 618 N. Washington St.\, Alexandria\, VA\, 22314
CATEGORIES:Informational
ATTACH;FMTTYPE=image/jpeg:https://democratstogo.alexdems.org/wp-content/uploads/2019/04/postcarders-april-13.jpg
END:VEVENT
BEGIN:VEVENT
DTSTART;TZID=UTC:20190903T183000
DTEND;TZID=UTC:20190903T193000
DTSTAMP:20260423T220444
CREATED:20190807T205304Z
LAST-MODIFIED:20190807T205333Z
UID:670-1567535400-1567539000@democratstogo.alexdems.org
SUMMARY:Canvasser Training and Candidate Info Session
DESCRIPTION:Do you want to help Democrats To Go in its mission to flip the General Assembly in November\, but are reticent to canvass? Come to our canvasser training before the September ADC meeting where we’ll have expert canvassers talk you through it — it’s not that hard\, really! \nWe’ll also have information about the fantastic candidates we’re supporting this fall. \nCanvassing isn’t the only way to help candidates win\, but research shows it’s the most effective. So learn the ropes on Sept. 3 and make plans to knock on some doors later in the fall — you’ll be glad you did. \nFill out this form to sign up: \n\n\n  \n\n\n\n Your Name (required)\n \n \n Your Email (required)\n \n \n Your Phone\n\n \nDo You Need a Ride?\nYesNo\n \n Any Additional Info\n \n \n\n \n\n\n\n 
URL:https://democratstogo.alexdems.org/event/canvass-training-candidate-info-session/
LOCATION:Minnie Howard School\, 3801 West Braddock Rd\, Alexandria\, VA\, 22302\, United States
CATEGORIES:Informational
ATTACH;FMTTYPE=image/jpeg:https://democratstogo.alexdems.org/wp-content/uploads/2018/05/ReidCanvassCD10.jpg
END:VEVENT
END:VCALENDAR