BEGIN:VCALENDAR
VERSION:2.0
PRODID:-//Democrats To Go - ECPv6.15.20//NONSGML v1.0//EN
CALSCALE:GREGORIAN
METHOD:PUBLISH
X-ORIGINAL-URL:https://democratstogo.alexdems.org
X-WR-CALDESC:Events for Democrats To Go
REFRESH-INTERVAL;VALUE=DURATION:PT1H
X-Robots-Tag:noindex
X-PUBLISHED-TTL:PT1H
BEGIN:VTIMEZONE
TZID:UTC
BEGIN:STANDARD
TZOFFSETFROM:+0000
TZOFFSETTO:+0000
TZNAME:UTC
DTSTART:20190101T000000
END:STANDARD
END:VTIMEZONE
BEGIN:VEVENT
DTSTART;TZID=UTC:20201025T120000
DTEND;TZID=UTC:20201025T140000
DTSTAMP:20260423T232752
CREATED:20201020T221614Z
LAST-MODIFIED:20201020T222827Z
UID:959-1603627200-1603634400@democratstogo.alexdems.org
SUMMARY:Contactless Lit Drop for Dr. Cameron Webb
DESCRIPTION:Join us as we travel to Warrenton to get the word out about Dr. Cameron Webb and voting by dropping literature at people’s doors (without knocking or talking). \nThe Webb campaign considers this weekend’s lit drops their second-most-pressing need behind phonebanking\, and it’s part of the Dems To Go Weekend of Action\, so please road trip with us! \nDemocrats To Go members will meet other volunteers at a barn in Warrenton to receive materials from the campaign and go over safety tips before heading out. \nLaunch point: 7164 Lineweaver Rd\, Warrenton\, VA 20187 \nWe’re asking volunteers to sign up twice: using the form below and through the campaign by clicking here. \nAnd of course: Remember to wear a mask! \nMore Weekend of Action Events \n\n\n  \n\n\n\n Your Name (required)\n \n \n Your Email (required)\n \n \n Your Phone\n\n \nDo you want to ride with another volunteer?\nYesNo\n \nDo you want to "caravan" to Warrenton with other volunteers?\nYesNo\n \n Any Additional Info
URL:https://democratstogo.alexdems.org/event/webb-lit-drop-102520/
LOCATION:7164 Lineweaver Rd\, Warrenton VA 20187\, 7164 Lineweaver Rd\, Warrenton\, VA\, 20187\, United States
CATEGORIES:Lit Drop
ATTACH;FMTTYPE=image/jpeg:https://democratstogo.alexdems.org/wp-content/uploads/2020/08/camweron-webb-e1597110176423.jpg
END:VEVENT
BEGIN:VEVENT
DTSTART;TZID=UTC:20201024T120000
DTEND;TZID=UTC:20201024T150000
DTSTAMP:20260423T232752
CREATED:20201020T221144Z
LAST-MODIFIED:20201020T222832Z
UID:953-1603540800-1603551600@democratstogo.alexdems.org
SUMMARY:Contactless Lit Drop for Dr. Cameron Webb
DESCRIPTION:Join us as we travel to Warrenton to get the word out about Dr. Cameron Webb and voting by dropping literature at people’s doors (without knocking or talking). \nThe Webb campaign considers this weekend’s lit drops their second-most-pressing need behind phonebanking\, and it’s part of the Dems To Go Weekend of Action\, so please road trip with us! \nDemocrats To Go members will meet other volunteers at a barn in Warrenton to receive materials from the campaign and go over safety tips before heading out. \nLaunch point: 7164 Lineweaver Rd\, Warrenton\, VA 20187 \nWe’re asking volunteers to sign up twice: using the form below and through the campaign by clicking here. \nAnd of course: Remember to wear a mask! \nMore Weekend of Action Events \n\n\n  \n\n\n\n Your Name (required)\n \n \n Your Email (required)\n \n \n Your Phone\n\n \nDo you want to ride with another volunteer?\nYesNo\n \nDo you want to "caravan" to Warrenton with other volunteers?\nYesNo\n \n Any Additional Info
URL:https://democratstogo.alexdems.org/event/webb-lit-drop-102420/
LOCATION:7164 Lineweaver Rd\, Warrenton VA 20187\, 7164 Lineweaver Rd\, Warrenton\, VA\, 20187\, United States
CATEGORIES:Lit Drop
ATTACH;FMTTYPE=image/jpeg:https://democratstogo.alexdems.org/wp-content/uploads/2020/08/camweron-webb-e1597110176423.jpg
END:VEVENT
END:VCALENDAR