BEGIN:VCALENDAR
VERSION:2.0
PRODID:-//Democrats To Go - ECPv6.15.20//NONSGML v1.0//EN
CALSCALE:GREGORIAN
METHOD:PUBLISH
X-ORIGINAL-URL:https://democratstogo.alexdems.org
X-WR-CALDESC:Events for Democrats To Go
REFRESH-INTERVAL;VALUE=DURATION:PT1H
X-Robots-Tag:noindex
X-PUBLISHED-TTL:PT1H
BEGIN:VTIMEZONE
TZID:UTC
BEGIN:STANDARD
TZOFFSETFROM:+0000
TZOFFSETTO:+0000
TZNAME:UTC
DTSTART:20170101T000000
END:STANDARD
END:VTIMEZONE
BEGIN:VEVENT
DTSTART;TZID=UTC:20220623T180000
DTEND;TZID=UTC:20220623T200000
DTSTAMP:20260423T220518
CREATED:20220606T233528Z
LAST-MODIFIED:20220606T233853Z
UID:1113-1656007200-1656014400@democratstogo.alexdems.org
SUMMARY:Phone Bank for Rep. Elaine Luria (or Host One of Your Own)
DESCRIPTION:One of our Dems To Go members will host a phone bank for Rep. Elaine Luria at their West End Alexandria home on Thursday\, June 23 from 6 to 8 p.m. We’ll be contacting Democratic voters in these calls\, helping the campaign build its lists of supporters as fall campaign season creeps ever closer. \nJoin us to phone bank in a social setting\, enjoying light food and drinks as we help Elaine in Virginia’s super-competitive Second District. \nFill out the form below to sign up. We will send the address of the phone bank out after you have RSVP’d. \nNote: Dems To Go is looking for hosts for additional phone banks this summer. If you’re willing to open your home (or backyard) to 5 to 10 dedicated Dems\, check the hosting box below. \n\n\n  \n\n\n\n Your Name (required)\n \n \n Your Email (required)\n \n \n Your Phone\n\n \nI will attend the June 23 phone bankI would like to host a phone bank\n \n Any Additional Info
URL:https://democratstogo.alexdems.org/event/phone-bank-for-rep-elaine-luria/
LOCATION:West End Alexandria\, VA\, United States
CATEGORIES:Phonebanking
ATTACH;FMTTYPE=image/png:https://democratstogo.alexdems.org/wp-content/uploads/2020/05/elaine-luria.png
END:VEVENT
BEGIN:VEVENT
DTSTART;TZID=UTC:20201102T174500
DTEND;TZID=UTC:20201102T200000
DTSTAMP:20260423T220518
CREATED:20201028T022622Z
LAST-MODIFIED:20201028T022622Z
UID:986-1604339100-1604347200@democratstogo.alexdems.org
SUMMARY:Webb GOTV Phonebank\, Nov. 2
DESCRIPTION:Do you know where the most competitive House race in the country is? Right here in Virginia — the Fifth District\, to be specific. \nAs we expected when we hosted a fundraising Zoom for him over the summer\, Dr. Cameron Webb has put a fairly red district into play for the Democrats. He’s a great candidate\, and we need to help him get over the line and win on Tuesday. \nSo we’ll hold another Zoom phonebank for Cameron Webb on Monday\, Nov. 2\, from 5:45 to 8 p.m. \nWe’ll meet in a Zoom\, chat briefly\, then move to the campaign’s Zoom to train and start dialing. Afterwards\, we’ll meet up again on Zoom to compare notes. \nWe’re asking you to sign up twice for this phonebank: using our form below and through this link from the campaign. \nWe’ll send you a Zoom link as the event approaches\, and then see you on Tuesday night! \nSign up for the Webb phonebank: \n\n\n  \n\n\n\n Your Name (required)\n \n \n Your Email (required)\n \n \n Your Phone\n\n \n Any Additional Info
URL:https://democratstogo.alexdems.org/event/webb-gotv-phonebank-nov-2/
LOCATION:Virtual
CATEGORIES:Phonebanking
ATTACH;FMTTYPE=image/jpeg:https://democratstogo.alexdems.org/wp-content/uploads/2020/10/webb-close-race-screenshot.jpg
END:VEVENT
BEGIN:VEVENT
DTSTART;TZID=UTC:20201101T114500
DTEND;TZID=UTC:20201101T150000
DTSTAMP:20260423T220518
CREATED:20201028T021557Z
LAST-MODIFIED:20201028T023238Z
UID:981-1604231100-1604242800@democratstogo.alexdems.org
SUMMARY:Spanberger GOTV Phonebank on Nov. 1
DESCRIPTION:Join us as we make calls to get out the vote for Rep. Abigail Spanberger (VA-07) on Sunday\, Nov. 1. Abigail has made us proud over the last two years\, and we need to finish the job and make sure she returns to Capitol Hill in 2021. \nWe’ll meet in a Zoom\, chat briefly\, then move to the campaign’s Zoom to train and start dialing. Afterwards\, we’ll meet up again on Zoom to compare notes. \nWe’re asking you sign up twice for this event. First\, sign up using the campaign’s volunteer page\, then sign up using the form below. See you on Sunday! \nSign up for the Spanberger phonebank: \n\n\n  \n\n\n\n Your Name (required)\n \n \n Your Email (required)\n \n \n Your Phone\n\n \n Any Additional Info
URL:https://democratstogo.alexdems.org/event/spanberger-phonebank-110120/
LOCATION:Virtual
CATEGORIES:Phonebanking
ATTACH;FMTTYPE=image/jpeg:https://democratstogo.alexdems.org/wp-content/uploads/2020/10/abigail.jpg
END:VEVENT
BEGIN:VEVENT
DTSTART;TZID=UTC:20201027T174500
DTEND;TZID=UTC:20201027T200000
DTSTAMP:20260423T220518
CREATED:20201020T212603Z
LAST-MODIFIED:20201025T145520Z
UID:948-1603820700-1603828800@democratstogo.alexdems.org
SUMMARY:Oct. 27 Phonebank for Dr. Cameron Webb
DESCRIPTION:We acknowledge that phonebanking is hard. But it’s easier if you’re not doing it alone. \nSo we’ll hold another Zoom phonebank for Cameron Webb on Tuesday\, Oct. 27\, from 5:45 to 8 p.m. We’re co-hosting this event with Indivisible Below the Beltway. \nCameron is running for Congress in Virginia’s 5th District and has a real chance to flip the seat. Let’s help make it happen! \nWe’ll meet in a Zoom\, chat briefly\, then move to the campaign’s Zoom to train and start dialing. Afterwards\, we’ll meet up again on Zoom to compare notes. \nWe’re asking you to sign up twice for this phonebank: using our form below and through this link from the campaign. \nWe’ll send you a Zoom link as the event approaches\, and then see you on Tuesday night! \nSign up for the Webb phonebank: \n\n\n  \n\n\n\n Your Name (required)\n \n \n Your Email (required)\n \n \n Your Phone\n\n \n Any Additional Info
URL:https://democratstogo.alexdems.org/event/webb-phonebank-102720/
LOCATION:Virtual
CATEGORIES:Phonebanking
ATTACH;FMTTYPE=image/jpeg:https://democratstogo.alexdems.org/wp-content/uploads/2020/08/cameron-webb.jpg
END:VEVENT
BEGIN:VEVENT
DTSTART;TZID=UTC:20201025T114500
DTEND;TZID=UTC:20201025T140000
DTSTAMP:20260423T220518
CREATED:20201020T222413Z
LAST-MODIFIED:20201020T222510Z
UID:962-1603626300-1603634400@democratstogo.alexdems.org
SUMMARY:Weekend of Action Phonebank for Cameron Webb
DESCRIPTION:The Webb campaign says their No. 1 need is more phonebankers as the race for Congress in Virginia’s Fifth District comes down to the wire. So let’s help them out and man the phones on Sunday as part of the Democrats To Go Weekend of Action. \nCameron is running for Congress in Virginia’s 5th District and has a real chance to flip the seat. Let’s help make it happen! \nWe’ll meet in a Zoom\, chat briefly\, then move to the campaign’s Zoom to train and start dialing. Afterwards\, we’ll meet up again on Zoom to compare notes. \nWe’re asking you to sign up twice for this phonebank: using our form below and through this link from the campaign. \nWe’ll send you a Zoom link as the event approaches\, and then see you on Sunday! \nMore Weekend of Action Events \n\n\n  \n\n\n\n Your Name (required)\n \n \n Your Email (required)\n \n \n Your Phone\n\n \n Any Additional Info
URL:https://democratstogo.alexdems.org/event/weekend-of-action-webb-phonebank-102520/
LOCATION:Virtual
CATEGORIES:Phonebanking
ATTACH;FMTTYPE=image/jpeg:https://democratstogo.alexdems.org/wp-content/uploads/2020/08/cameron-webb.jpg
END:VEVENT
BEGIN:VEVENT
DTSTART;TZID=UTC:20201013T180000
DTEND;TZID=UTC:20201013T200000
DTSTAMP:20260423T220518
CREATED:20201005T053509Z
LAST-MODIFIED:20201007T213104Z
UID:938-1602612000-1602619200@democratstogo.alexdems.org
SUMMARY:Phonebank for Abigail Spanberger on Oct. 13
DESCRIPTION:Join us as we make calls on behalf of Rep. Abigail Spanberger’s campaign on Tuesday\, Oct. 13. Abigail is a fantastic representative for Virginia’s Seventh District and the Democratic Party\, and we need to make sure she returns to Capitol Hill in 2021. \nThe campaign will put all Dems To Go volunteers in our own breakout room in their phonebank Zoom\, allowing us to share experiences and support each other throughout the session. \nWe’re asking you sign up twice for this event. First\, sign up using the campaign’s volunteer page\, then sign up using the form below. See you on the 13th! \n\n\n  \n\n\n\n Your Name (required)\n \n \n Your Email (required)\n \n \n Your Phone\n\n \n Any Additional Info
URL:https://democratstogo.alexdems.org/event/spanberger-phonebank-oct13/
LOCATION:Virtual
CATEGORIES:Phonebanking
ATTACH;FMTTYPE=image/jpeg:https://democratstogo.alexdems.org/wp-content/uploads/2018/08/abigail-1.jpg
END:VEVENT
BEGIN:VEVENT
DTSTART;TZID=UTC:20201006T164500
DTEND;TZID=UTC:20201006T190000
DTSTAMP:20260423T220518
CREATED:20200929T013811Z
LAST-MODIFIED:20200929T013958Z
UID:918-1602002700-1602010800@democratstogo.alexdems.org
SUMMARY:Phonebank for Elaine Luria on Oct. 6
DESCRIPTION:Join us as we make calls on behalf of Rep. Elaine Luria’s campaign on Tuesday\, Oct. 6. Elaine is an amazing representative for Virginia’s second District and the Democratic Party\, and we need to make sure she returns in 2021. \nWe’ll meet in a Zoom\, chat briefly\, then head to the campaign’s Zoom for training and calls from 5 to 7 p.m. Afterward\, we will regroup to recap and share those special stories that always seem to come from phonebanking. \nSign up below. We’ll send you a Zoom link as the event approaches\, and then see you on the 6th! \n\n\n  \n\n\n\n Your Name (required)\n \n \n Your Email (required)\n \n \n Your Phone\n\n \n Any Additional Info
URL:https://democratstogo.alexdems.org/event/luria-phonebank-oct6/
LOCATION:Virtual
CATEGORIES:Phonebanking
ATTACH;FMTTYPE=image/png:https://democratstogo.alexdems.org/wp-content/uploads/2020/05/elaine-luria.png
END:VEVENT
BEGIN:VEVENT
DTSTART;TZID=UTC:20200929T180000
DTEND;TZID=UTC:20200929T200000
DTSTAMP:20260423T220518
CREATED:20200929T011306Z
LAST-MODIFIED:20200929T022520Z
UID:913-1601402400-1601409600@democratstogo.alexdems.org
SUMMARY:Phonebank for Democrats in N.C.\, Part 2
DESCRIPTION:Join us for the second straight week as we help Democrats up and down the ballot in North Carolina\, from Joe Biden and Cal Cunningham at the top all the way down to\, in this case\, N.C. state senate candidate Tess Judge and state house candidate Emily Nicholson. \nTess is running to flip N.C. Senate District 1\, and Emily to flip House District 1. The districts overlap in eastern North Carolina. \nFarther up the ballot\, Democratic Gov. Roy Cooper is running for re-election\, Cunningham is running to oust GOP Sen. Thom Tillis and Vice President Biden could hurt Donald Trump’s re-election chances severely by taking the state. \nThere is no Dems To Go Zoom for this event; instead sign up with Flip N.C.\, which will send you a link for their Zoom and other key information. The phonebank runs from 6 to 8 p.m. \nLet’s help North Carolina do what Virginia has done and move from purple to blue! \nSign up for the phonebank with Flip N.C. \nPS — Starting at 9 p.m. Tuesday\, we will host a Presidential Debate Watch on Zoom — click here to sign up.
URL:https://democratstogo.alexdems.org/event/north-carolina-phonebank-sept29/
LOCATION:Virtual
CATEGORIES:Phonebanking
ATTACH;FMTTYPE=image/png:https://democratstogo.alexdems.org/wp-content/uploads/2020/09/NCDems_Share.png
END:VEVENT
BEGIN:VEVENT
DTSTART;TZID=UTC:20200908T180000
DTEND;TZID=UTC:20200908T203000
DTSTAMP:20260423T220518
CREATED:20200902T202253Z
LAST-MODIFIED:20200902T202253Z
UID:876-1599588000-1599597000@democratstogo.alexdems.org
SUMMARY:Dems To Go Phonebank for Dr. Cameron Webb
DESCRIPTION:We acknowledge that phonebanking is hard. But it’s easier if you’re not doing it alone. \nSo we’ll hold our second Zoom phonebank for Cameron Webb on Tuesday\, Sept. 8\, from 6 to 8:30 p.m. \nCameron is running for Congress in Virginia’s 5th District and has a real chance to flip the seat. Let’s help make it happen! \nWe’ll meet in a Zoom\, chat briefly\, then mute ourselves and start dialing. During and after\, we’ll support each other in the Zoom\, sharing those special stories that always seem to come from phonebanking. \nSign up below. We’ll send you a Zoom link as the event approaches\, and then see you on the 8th! \nSign up for the Webb phonebank: \n\n\n  \n\n\n\n Your Name (required)\n \n \n Your Email (required)\n \n \n Your Phone\n\n \n Any Additional Info
URL:https://democratstogo.alexdems.org/event/webb-phonebank-sept-8/
LOCATION:Virtual
CATEGORIES:Phonebanking
ATTACH;FMTTYPE=image/jpeg:https://democratstogo.alexdems.org/wp-content/uploads/2020/08/cameron-webb.jpg
END:VEVENT
BEGIN:VEVENT
DTSTART;TZID=UTC:20200826T180000
DTEND;TZID=UTC:20200826T200000
DTSTAMP:20260423T220518
CREATED:20200812T183458Z
LAST-MODIFIED:20200812T183458Z
UID:862-1598464800-1598472000@democratstogo.alexdems.org
SUMMARY:Phonebanking Together (on Zoom) for Dr. Cameron Webb
DESCRIPTION:Yes\, phonebanking is hard\, but it’s easier if you’re not doing it alone. So we’ll hold a Zoom phonebank on Wednesday\, Aug. 26 from 6 to 8 p.m. to support Dr. Cameron Webb. \nCameron is running for Congress in Virginia’s 5th District and has a real chance to flip the seat. Let’s help make it happen! \nWe’ll meet in a Zoom\, chat briefly\, then mute ourselves and start dialing. During and after\, we’ll support each other in the Zoom\, sharing those special stories that always seem to come from phonebanking. \nSign up below. We’ll send you a Zoom link as the event approaches\, and then see you on the 26th! \nSign up for the Webb phonebank: \n\n\n  \n\n\n\n Your Name (required)\n \n \n Your Email (required)\n \n \n Your Phone\n\n \n Any Additional Info
URL:https://democratstogo.alexdems.org/event/phonebanking-together-on-zoom-for-dr-cameron-webb/
LOCATION:Virtual
CATEGORIES:Phonebanking
ATTACH;FMTTYPE=image/jpeg:https://democratstogo.alexdems.org/wp-content/uploads/2020/08/cameron-webb.jpg
END:VEVENT
BEGIN:VEVENT
DTSTART;TZID=UTC:20200601T080000
DTEND;TZID=UTC:20201103T170000
DTSTAMP:20260423T220518
CREATED:20200531T212407Z
LAST-MODIFIED:20200831T215618Z
UID:802-1590998400-1604422800@democratstogo.alexdems.org
SUMMARY:Calls for Luria\, Spanberger & Webb
DESCRIPTION:Democrats To Go members are making calls and texts on behalf of Reps. Elaine Luria and Abigail Spanberger and Dr. Cameron Webb throughout the 2020 campaign. Both Congresswomen have done great jobs in their first terms representing Districts 2 and 7\, respectively\, and we need to make sure they return in 2021. And Cameron is a fantastic candidate who gives us a chance to flip Virginia’s Fifth District as well. \nYou can make calls from your home\, on your own schedule\, after a brief training session with the campaigns. \nTo learn more and sign up\, click one of the links below: \nLearn more and sign up for virtual phonebanking for Rep. Luria \nLearn more and sign up for virtual phonebanking for Rep. Spanberger \nLearn more and sign up for virtual phonebanking for Cameron Webb
URL:https://democratstogo.alexdems.org/event/virtual-phonebanking-2020/
LOCATION:Virtual
CATEGORIES:Phonebanking
ATTACH;FMTTYPE=image/jpeg:https://democratstogo.alexdems.org/wp-content/uploads/2020/08/phone-and-laptop.jpg
END:VEVENT
BEGIN:VEVENT
DTSTART;TZID=UTC:20190216T100000
DTEND;TZID=UTC:20190216T120000
DTSTAMP:20260423T220518
CREATED:20190211T045128Z
LAST-MODIFIED:20190211T045645Z
UID:481-1550311200-1550318400@democratstogo.alexdems.org
SUMMARY:Phonebank for Christian Worth on Feb. 16
DESCRIPTION:We’ll be making calls to support Christian Worth\, a Democrat running for the House of Delegates in Virginia’s 24th District\, on Saturday morning\, Feb. 16. \nJoin us as we support Christian\, who had a solid showing in a hasty special election for this seat in December. With more time and support\, Christian can get over the line and help flip the House blue in November. \nWe’ll be making calls from the ADC office at 618 N. Washington Street in Alexandria. \nThe 24th is in the Shenandoah Valley and includes Lexington. \nFill out the form below to sign up. See you Saturday morning! \n\n\n  \n\n\n\n Your Name (required)\n \n \n Your Email (required)\n \n \n Your Phone\n\n \nDo You Need a Ride?\nYesNo\n \n Any Additional Info
URL:https://democratstogo.alexdems.org/event/phonebank-christian-worth-feb16/
LOCATION:ADC Headquarters\, 618 N. Washington St.\, Alexandria\, VA\, 22314
CATEGORIES:Phonebanking
ATTACH;FMTTYPE=image/jpeg:https://democratstogo.alexdems.org/wp-content/uploads/2019/02/worth-campaign-office.jpg
END:VEVENT
BEGIN:VEVENT
DTSTART;TZID=UTC:20181215T100000
DTEND;TZID=UTC:20181215T120000
DTSTAMP:20260423T220518
CREATED:20181212T214044Z
LAST-MODIFIED:20181212T214105Z
UID:464-1544868000-1544875200@democratstogo.alexdems.org
SUMMARY:Phonebank for Christian Worth - Dec. 18 Special Election
DESCRIPTION:Christian Worth is the Democrat running in a special election for an open House of Delegates seat\, and she needs our help! \nWe’ll meet at the ADC office to phonebank on Saturday morning from 10 a.m. to noon. \nChristian is running for the Delegate seat in the 24th District — Lexington sits in the center of the district. \nThe special election is Dec. 18. Yes\, that’s soon\, because the Republicans set the date quickly\, trying to make it difficult for the Democrats to have a chance. \nFill out the form below to sign up. See you Saturday morning! \n\n\n  \n\n\n\n Your Name (required)\n \n \n Your Email (required)\n \n \n Your Phone\n\n \nDo You Need a Ride?\nYesNo\n \n Any Additional Info\n \n \n\n \n\n\n\n 
URL:https://democratstogo.alexdems.org/event/dec-18-phonebank-christian-worth/
LOCATION:ADC Headquarters\, 618 N. Washington St.\, Alexandria\, VA\, 22314
CATEGORIES:Phonebanking
ATTACH;FMTTYPE=image/jpeg:https://democratstogo.alexdems.org/wp-content/uploads/2018/12/christian-worth-e1544650592847.jpg
END:VEVENT
BEGIN:VEVENT
DTSTART;TZID=UTC:20181030T180000
DTEND;TZID=UTC:20181030T200000
DTSTAMP:20260423T220518
CREATED:20181025T030146Z
LAST-MODIFIED:20181025T030209Z
UID:428-1540922400-1540929600@democratstogo.alexdems.org
SUMMARY:Phonebank for Elaine Luria on Oct. 30
DESCRIPTION:Elaine Luria is an exceptional Democratic candidate fighting to flip Virginia’s Second District. Let’s see what we can do to help her cause. \nWe’ll meet on Tuesday\, Oct. 30\, from 6 to 8 p.m. at the ADC Office at 618 N. Washington St.\, Alexandria VA 22314 to make calls for Elaine. \nPhonebankers need to bring a cell phone and a laptop. \nSign up:  \n\n\n  \n\n\n\n Your Name (required)\n \n \n Your Email (required)\n \n \n Your Phone\n\n \nDo You Need a Ride?\nYesNo\n \n Any Additional Info\n \n \n\n \n\n\n\n 
URL:https://democratstogo.alexdems.org/event/phonebank-for-elaine-luria-on-oct-30/
LOCATION:ADC Headquarters\, 618 N. Washington St.\, Alexandria\, VA\, 22314
CATEGORIES:Phonebanking
ATTACH;FMTTYPE=image/jpeg:https://democratstogo.alexdems.org/wp-content/uploads/2018/08/elaine-luria.jpg
END:VEVENT
END:VCALENDAR