BEGIN:VCALENDAR
VERSION:2.0
PRODID:-//Democrats To Go - ECPv6.15.20//NONSGML v1.0//EN
CALSCALE:GREGORIAN
METHOD:PUBLISH
X-ORIGINAL-URL:https://democratstogo.alexdems.org
X-WR-CALDESC:Events for Democrats To Go
REFRESH-INTERVAL;VALUE=DURATION:PT1H
X-Robots-Tag:noindex
X-PUBLISHED-TTL:PT1H
BEGIN:VTIMEZONE
TZID:UTC
BEGIN:STANDARD
TZOFFSETFROM:+0000
TZOFFSETTO:+0000
TZNAME:UTC
DTSTART:20190101T000000
END:STANDARD
END:VTIMEZONE
BEGIN:VEVENT
DTSTART;TZID=UTC:20200929T204500
DTEND;TZID=UTC:20200929T230000
DTSTAMP:20260424T004400
CREATED:20200929T012436Z
LAST-MODIFIED:20200929T014013Z
UID:915-1601412300-1601420400@democratstogo.alexdems.org
SUMMARY:Presidential Debate Watch
DESCRIPTION:It’s a big night for the presidential campaign — and for America — as Joe Biden and President Trump face off in the first Presidential Debate of the general campaign. \nJoin your friends from Democrats To Go on Zoom as we watch the debate together and discuss the action. \nThe Zoom will open up at 8:45 p.m.\, and the debate starts at 9. Hope to see you there! \nSign up below and we’ll send out the Zoom link Tuesday morning. \n\n\n  \n\n\n\n Your Name (required)\n \n \n Your Email (required)\n \n \n Your Phone\n\n \n Any Additional Info\n \n \n\n \n\n\n\n 
URL:https://democratstogo.alexdems.org/event/presidential-debate-watch/
LOCATION:Virtual
CATEGORIES:Social
ATTACH;FMTTYPE=image/jpeg:https://democratstogo.alexdems.org/wp-content/uploads/2020/09/biden-flag.jpg
END:VEVENT
END:VCALENDAR