BEGIN:VCALENDAR
VERSION:2.0
PRODID:-//Democrats To Go - ECPv6.15.20//NONSGML v1.0//EN
CALSCALE:GREGORIAN
METHOD:PUBLISH
X-WR-CALNAME:Democrats To Go
X-ORIGINAL-URL:https://democratstogo.alexdems.org
X-WR-CALDESC:Events for Democrats To Go
REFRESH-INTERVAL;VALUE=DURATION:PT1H
X-Robots-Tag:noindex
X-PUBLISHED-TTL:PT1H
BEGIN:VTIMEZONE
TZID:UTC
BEGIN:STANDARD
TZOFFSETFROM:+0000
TZOFFSETTO:+0000
TZNAME:UTC
DTSTART:20170101T000000
END:STANDARD
END:VTIMEZONE
BEGIN:VEVENT
DTSTART;TZID=UTC:20181027T100000
DTEND;TZID=UTC:20181027T140000
DTSTAMP:20260424T045215
CREATED:20181010T023536Z
LAST-MODIFIED:20181012T021120Z
UID:395-1540634400-1540648800@democratstogo.alexdems.org
SUMMARY:Canvass for Abigail Spanberger in Chesterfield or Fredericksburg
DESCRIPTION:Abigail Spanberger’s campaign to unseat Dave Brat in Virginia’s Seventh District is turning into one of the most-watched House races of the fall! \nLet’s pitch in one more time for Abigail — on Saturday\, Oct. 27. \nYou can choose one of two launch points: \n\nChesterfield County\, noon — Chesterfield (the county on Richmond’s south side) is the key battleground in this race. If you’re willing to make the two-hour drive\, it will be worth it.\nFredericksburg\, 9 a.m. or noon — If you can’t get to Chesterfield but still want to help\, canvassing in the Fredericksburg area is a great option.\n\nPlease use this form to sign up for one of the canvasses: \n\n\n  \n\n\n\n Your Name (required)\n \n \n Your Email (required)\n \n \n Your Phone\n\n \nWhich Canvass Will You Attend?\nChesterfield\, noonFredericksburg\, 9 amFredericksburg\, noon\n \nDo You Need a Ride?\nYesNo\n \n Any Additional Info\n \n \n\n \n\n\n\n  \n  \n  \n 
URL:https://democratstogo.alexdems.org/event/spanberger-canvass-oct-27/
LOCATION:Chesterfield or Fredericksburg
ATTACH;FMTTYPE=image/jpeg:https://democratstogo.alexdems.org/wp-content/uploads/2018/08/abigail-1.jpg
END:VEVENT
BEGIN:VEVENT
DTSTART;TZID=UTC:20181023T180000
DTEND;TZID=UTC:20181023T200000
DTSTAMP:20260424T045215
CREATED:20181012T022832Z
LAST-MODIFIED:20181017T014955Z
UID:408-1540317600-1540324800@democratstogo.alexdems.org
SUMMARY:Phonebank for Abigail Spanberger on Oct. 23
DESCRIPTION:Make a difference in the Virginia Seventh District race without leaving Alexandria! \nDemocrats To Go will host a phone bank for Abigail Spanberger on Tuesday\, Oct. 23\, from 6 to 8 p.m. at the ADC Office at 618 N. Washington St.\, Alexandria VA 22314 \nBring a cell phone and a laptop if you can. \nSign up: \n\n\n  \n\n\n\n Your Name (required)\n \n \n Your Email (required)\n \n \n Your Phone\n\n \nDo You Need a Ride?\nYesNo\n \n Any Additional Info\n \n \n\n \n\n\n\n 
URL:https://democratstogo.alexdems.org/event/spanberger-phonebank-oct-23/
LOCATION:ADC Headquarters\, 618 N. Washington St.\, Alexandria\, VA\, 22314
ATTACH;FMTTYPE=image/jpeg:https://democratstogo.alexdems.org/wp-content/uploads/2018/08/spanberger-2.jpg
END:VEVENT
BEGIN:VEVENT
DTSTART;TZID=UTC:20181020T100000
DTEND;TZID=UTC:20181020T140000
DTSTAMP:20260424T045215
CREATED:20181003T115121Z
LAST-MODIFIED:20181005T144821Z
UID:373-1540029600-1540044000@democratstogo.alexdems.org
SUMMARY:Canvass for Leslie Cockburn in One of Two Locations
DESCRIPTION:The Fifth District looks like a true toss-up! Democrats To Go has members headed to Warrenton on Oct. 20 and we welcome more participants. \nFor those willing to travel: The campaign is looking for canvassers willing to knock on doors in Barboursville (about 30 minutes north of Charlottesville) on Oct. 20 starting at 1 pm\, as well. Let us know if you can make the trip in the form below. \nCanvass launch points: \nWarrenton: 35 Horner St.\, Warrenton VA 20186 — 10 am start \nBarboursville: 54 Willow Way Drive\, Barboursville VA 22923 — 1 pm start  \nRSVP \n\n\n  \n\n\n\n Your Name (required)\n \n \n Your Email (required)\n \n \n Your Phone\n\n \nWhich Canvass Will You Attend?\nWarrentonBarboursville\n \nDo You Need a Ride?\nYesNo\n \n Any Additional Info
URL:https://democratstogo.alexdems.org/event/cockburn-canvasses-oct-20/
LOCATION:Warrenton or Barboursville
ATTACH;FMTTYPE=image/jpeg:https://democratstogo.alexdems.org/wp-content/uploads/2018/08/leslie-cockburn-crop.jpg
END:VEVENT
BEGIN:VEVENT
DTSTART;TZID=UTC:20181014T160000
DTEND;TZID=UTC:20181014T180000
DTSTAMP:20260424T045215
CREATED:20181005T150130Z
LAST-MODIFIED:20181005T150247Z
UID:387-1539532800-1539540000@democratstogo.alexdems.org
SUMMARY:Pinball Fundraiser for Carter Turner
DESCRIPTION:Want to play pinball? Want to help flip a seat in in the House of Delegates at the same time? \nPlease join us for a pinball fundraising tournament benefiting Carter Turner for Delegate. \nCarter\, a professor at Radford University\, is running in a special election for the seat in Virginia House District 8. He is passionate about improving I-81\, fighting the opioid addiction crisis\, and fighting for the environment over pipelines. If he wins\, Democrats will have 50 seats to the Republicans’ 50 in the House of Delegates. \nEvent will be held at the home of Chalin Smith in Alexandria. Address provided after RSVP: \nClick here to RSVP \n  \n 
URL:https://democratstogo.alexdems.org/event/pinball-fundraiser-carter-turner/
LOCATION:Home of Chalin Smith\, Alexandria\, VA\, United States
ATTACH;FMTTYPE=image/jpeg:https://democratstogo.alexdems.org/wp-content/uploads/2018/08/pinball-bumper-730.jpeg
END:VEVENT
BEGIN:VEVENT
DTSTART;TZID=UTC:20181013T100000
DTEND;TZID=UTC:20181013T140000
DTSTAMP:20260424T045215
CREATED:20180919T040528Z
LAST-MODIFIED:20181012T021028Z
UID:349-1539424800-1539439200@democratstogo.alexdems.org
SUMMARY:Canvass for Vangie Williams in Dale City\, Va
DESCRIPTION:Democrats To Go will return to Virginia’s First Congressional District to support Vangie Williams on Oct. 13. \nVangie has a chance to become the first African-American woman to represent Virginia in Congress. Let’s make it happen! \nWe’ll meet at 10 a.m. at the Prince William Coordinated Campaign Office\, 5517 Mapledale Plaza\, Dale City VA and start knocking on doors nearby. \nAnd we’ll have a special guest canvassing with us — Del. Elizabeth Guzman! \nTransit Notes: The office is in a shopping center with a Giant\, but you have to drive around the back to find it. The office is not far from Alexandria\, but I-95 gets busy early on weekend mornings\, so allocate extra time to drive there. \nPlease use this form to sign up for the canvass: \n\n\n  \n\n\n\n Your Name (required)\n \n \n Your Email (required)\n \n \n Your Phone\n\n \nDo You Need a Ride?\nYesNo\n \n Any Additional Info
URL:https://democratstogo.alexdems.org/event/vangie-williams-canvass-oct-13/
LOCATION:Mapledale Plaza\, Dale City\, Va.\, 5557 Mapledale Plaza\, Dale City\, VA\, United States
ATTACH;FMTTYPE=image/png:https://democratstogo.alexdems.org/wp-content/uploads/2018/08/vangie-guzman-combo.png
END:VEVENT
BEGIN:VEVENT
DTSTART;TZID=UTC:20181006T100000
DTEND;TZID=UTC:20181006T170000
DTSTAMP:20260424T045215
CREATED:20180804T221424Z
LAST-MODIFIED:20181003T114219Z
UID:260-1538820000-1538845200@democratstogo.alexdems.org
SUMMARY:October Canvass for Abigail Spanberger
DESCRIPTION:Abigail Spanberger’s campaign team tells us the race vs. Dave Brat in the Seventh will be won or lost in the Richmond suburbs in Chesterfield County\, so that’s where we’re going on Oct. 6. \nThe campaign will give us a launch point on Thursday\, and once we have that\, we’ll choose a nearby venue for the  post-canvass social. We’ll be in touch via email once you sign up. \n(For estimation purposes\, the Commonwealth Center shopping center\, 4600 Commonwealth Center Pkwy.\, Midlothian VA 23112 is in the approximate center of the 7th in Chesterfield County\, so the launch point should not be much further than that.) \nLet’s head down to the Seventh and help Abigail bring home victory! \nSign Up: \n\n\n  \n\n\n\n Your Name (required)\n \n \n Your Email (required)\n \n \n Your Phone\n\n \nDo You Need a Ride?\nYesNo\n \n Any Additional Info
URL:https://democratstogo.alexdems.org/event/october-canvass-for-abigail-spanberger/
LOCATION:Richmond\, Va.
CATEGORIES:Canvassing
ATTACH;FMTTYPE=image/jpeg:https://democratstogo.alexdems.org/wp-content/uploads/2018/08/spanberger-2.jpg
END:VEVENT
BEGIN:VEVENT
DTSTART;TZID=UTC:20180930T110000
DTEND;TZID=UTC:20180930T150000
DTSTAMP:20260424T045215
CREATED:20180831T180041Z
LAST-MODIFIED:20180924T042910Z
UID:331-1538305200-1538319600@democratstogo.alexdems.org
SUMMARY:Canvass for Leslie Cockburn in Warrenton
DESCRIPTION:Democrats To Go have a great event planned in Virginia’s Fifth District\, where Leslie Cockburn (pronounced COH-burn) has a slight edge in a tight race. \nLeslie was also featured in Monday’s Washington Post. \nThe plan: \n– 11 am: Democrats To Go Fifth District coordinator Dinah Wiley will meet interested canvassers for coffee at Red Truck Bakery\, 22 Waterloo St.\, Warrenton. \n– Noon: Canvass launch from Cockburn headquarters\, 35 Horner St.\, Warrenton. \n– Approx. 2:45 pm: Meet the candidate! Leslie will be at the campaign office when we finish up. \nLet’s get out and support Leslie in the Fifth! \nSign Up: \n\n\n  \n\n\n\n Your Name (required)\n \n \n Your Email (required)\n \n \n Your Phone\n\n \nDo You Need a Ride?\nYesNo\n \n Any Additional Info
URL:https://democratstogo.alexdems.org/event/canvass-for-leslie-cockburn-in-warrenton/
LOCATION:Warrenton\, Va\, VA\, United States
CATEGORIES:Canvassing
ATTACH;FMTTYPE=image/jpeg:https://democratstogo.alexdems.org/wp-content/uploads/2018/08/leslie-cockburn-crop.jpg
END:VEVENT
BEGIN:VEVENT
DTSTART;TZID=UTC:20180923T100000
DTEND;TZID=UTC:20180923T170000
DTSTAMP:20260424T045215
CREATED:20180804T220854Z
LAST-MODIFIED:20180921T175625Z
UID:254-1537696800-1537722000@democratstogo.alexdems.org
SUMMARY:September Canvass for Abigail Spanberger
DESCRIPTION:Dems To Go will be road-tripping to Virginia’s Seventh District on Sunday\, Sept. 23 to knock on doors for Abigail Spanberger — and Abigail has tentative plans to join us! \nWe’ll launch from 7010 Cedar Crest Drive\, Fredericksburg VA 22407 at 10 a.m.\, canvass\, and meet for lunch afterward at Harry’s Alehouse\, 5737 Plank Road\, Fredericksburg\, VA 22508. \nAbigail is a former CIA officer and Girl Scout leader who is in a dead heat with Dave “Women Are In My Grill” Brat. And Abigail is doing well despite a smear campaign funded by a Paul Ryan-affiliated PAC. \nLet’s head down to the Seventh and help Abigail bring home victory! \nRSVP: \n\n\n  \n\n\n\n Your Name (required)\n \n \n Your Email (required)\n \n \n Your Phone\n\n \nDo You Need a Ride?\nYesNo\n \n Any Additional Info
URL:https://democratstogo.alexdems.org/event/september-spanberger-canavass/
LOCATION:7010 Cedar Crest Drive\, Fredericksburg VA 22407\, 7010 Cedar Crest Drive\, Fredericksburg\, VA\, 22407\, United States
CATEGORIES:Canvassing
ATTACH;FMTTYPE=image/jpeg:https://democratstogo.alexdems.org/wp-content/uploads/2018/08/abigail-1.jpg
END:VEVENT
BEGIN:VEVENT
DTSTART;TZID=UTC:20180909T160000
DTEND;TZID=UTC:20180909T180000
DTSTAMP:20260424T045215
CREATED:20180813T185305Z
LAST-MODIFIED:20180831T180258Z
UID:299-1536508800-1536516000@democratstogo.alexdems.org
SUMMARY:Flippers for Flippers: Supporting Elaine for Congress
DESCRIPTION:Please join us for a pinball fundraising tournament benefiting Elaine Luria’s run for Congress. \nElaine is a 20-year Navy veteran and a small business owner running for the U.S. Congress in Virginia’s 2nd Congressional District! This is one of the top races in the country to flip the House of Representatives in November and we are so grateful for your support to our event. \nClick here to sign up (or to donate if you can’t attend!). \nIf you have any questions\, please email Brenna: brenna@elaineforcongress.com
URL:https://democratstogo.alexdems.org/event/flippers-for-flippers-supporting-elaine-for-congress/
LOCATION:Home of Chalin Smith\, Alexandria\, VA\, United States
CATEGORIES:Fundraising
ATTACH;FMTTYPE=image/jpeg:https://democratstogo.alexdems.org/wp-content/uploads/2018/08/pinball-bumper-730.jpeg
END:VEVENT
BEGIN:VEVENT
DTSTART;TZID=UTC:20180901T100000
DTEND;TZID=UTC:20180901T140000
DTSTAMP:20260424T045215
CREATED:20180828T193456Z
LAST-MODIFIED:20180828T193802Z
UID:323-1535796000-1535810400@democratstogo.alexdems.org
SUMMARY:Labor Day-of-Action for Jennifer Wexton
DESCRIPTION:Come celebrate Labor Day by working to elect Jennifer Wexton to Congress in Virginia’s 10th District! \nNOVA Grassroots Groups including We of Action Virginia\, Herndon-Reston Indivisible and Arlington Blue Families are sponsoring this canvassing event that will launch from the Wexton campaign office in Manassas Park. \nFor questions or more info\, contact Luke Levasseur at levaray@hotmail.com or 703-303-8822. \nPlease RSVP using this link.
URL:https://democratstogo.alexdems.org/event/labor-day-of-action-for-jennifer-wexton/
LOCATION:Wexton Manassas Park Campaign Office\, 170 Market St. #124\, Manassas Park\, VA\, 20111\, United States
CATEGORIES:Canvassing
ATTACH;FMTTYPE=image/jpeg:https://democratstogo.alexdems.org/wp-content/uploads/2018/08/wexton.jpg
END:VEVENT
BEGIN:VEVENT
DTSTART;TZID=UTC:20180817T120000
DTEND;TZID=UTC:20180819T170000
DTSTAMP:20260424T045215
CREATED:20180804T220130Z
LAST-MODIFIED:20180806T203809Z
UID:252-1534507200-1534698000@democratstogo.alexdems.org
SUMMARY:Canvass at the Beach for Elaine Luria
DESCRIPTION:Democrats To Go is heading to Virginia Beach for the weekend of Aug. 17-19 to knock on doors for Elaine Luria\, who is running to flip the House of Representatives seat in Virginia’s 2nd District. \nThere will be opportunities in Virginia Beach to canvass on Friday\, Saturday and Sunday. And we are finding lodging for our volunteers who make the trip! \nIf you can only canvass for part of the weekend\, we’ll make that work\, too. \nThe canvasses will launch from the DCCC headquarters in Virginia Beach: \n5600 Virginia Beach Blvd\nSuite #106\nVirginia Beach\, VA 23462 \nPlease fill out the form to let us know you’re planning on attending! \nSign Up: \n\n\n  \n\n\n\n Your Name (required)\n \n \n Your Email (required)\n \n \n Your Phone\n\n \nWhich Day(s) Can You Canvass?\n(Check all that apply)\nFri. 8/17Sat. 8/18Sun. 8/19\n \nDo You Need Lodging?\nYesNo\n \nDo You Need a Ride?\nYesNo\n \n Questions or Anything We Should Know:
URL:https://democratstogo.alexdems.org/event/luria-beach-weekend/
LOCATION:VA
CATEGORIES:Canvassing
ATTACH;FMTTYPE=image/jpeg:https://democratstogo.alexdems.org/wp-content/uploads/2018/08/elaine-luria.jpg
END:VEVENT
BEGIN:VEVENT
DTSTART;TZID=UTC:20180811T100000
DTEND;TZID=UTC:20180811T130000
DTSTAMP:20260424T045215
CREATED:20180806T205713Z
LAST-MODIFIED:20180810T190248Z
UID:276-1533981600-1533992400@democratstogo.alexdems.org
SUMMARY:Canvass for Vangie Williams in Prince William County
DESCRIPTION:Democrats To Go will join the fray in Virginia’s 1st Congressional District on Saturday\, Aug. 11 with two special guests: Delegate Elizabeth Guzman and the candidate herself\, Vangie Williams! \nThis is a rare chance for Alexandrians to have their pictures taken with both. We need to work Saturday to have the first African American Congresswoman elected for Virginia. \nWe’ll meet at 10 a.m. at the Prince William Coordinated Campaign Office\, 5517 Mapledale Plaza\, Dale City VA and start knocking on doors nearby. \nStay for lunch afterwards\, too — we’ll go to a restaurant near the campaign office. \nTransit Notes: The office is in a shopping center with a Giant\, but you have to drive around the back to find it. The office is not far from Alexandria\, but I-95 gets busy early on weekend mornings\, so allocate extra time to drive there. \nPlease use this form to sign up for the canvass: \n\n\n  \n\n\n\n Your Name (required)\n \n \n Your Email (required)\n \n \n Your Phone\n\n \nDo You Need a Ride?\nYesNo\n \n Any Additional Info
URL:https://democratstogo.alexdems.org/event/canvass-for-vangie-williams-in-prince-william-county/
LOCATION:Mapledale Plaza\, Dale City\, Va.\, 5557 Mapledale Plaza\, Dale City\, VA\, United States
ATTACH;FMTTYPE=image/png:https://democratstogo.alexdems.org/wp-content/uploads/2018/08/vangie-guzman-combo.png
END:VEVENT
BEGIN:VEVENT
DTSTART;TZID=UTC:20180630T100000
DTEND;TZID=UTC:20180630T130000
DTSTAMP:20260424T045215
CREATED:20180601T120956Z
LAST-MODIFIED:20180624T222805Z
UID:211-1530352800-1530363600@democratstogo.alexdems.org
SUMMARY:Canvass With Wendy Gooditis
DESCRIPTION:Join Delegate Wendy Gooditis on Saturday\, June 30 at 10 a.m. in Leesburg to canvass  for Jennifer Wexton\, the Democratic nominee for the U.S. House of Representatives in Virginia’s 10th Congressional District \nClick this link for more information and please fill out the form below to let us know you’re coming. \nBring water\, sunscreen\, and walking shoes. Park in the Rust Library parking lot. For questions\, contact truman@wendygooditis.com or call 540-300-3857. \n\n\n  \n\n\n\n Your Name (required)\n \n \n Your Email (required)\n \n \n Your Phone\n\n \nDo You Need a Ride?\nYesNo\n \n Any Additional Info\n \n \n\n \n\n\n\n 
URL:https://democratstogo.alexdems.org/event/canvass-with-wendy-gooditis/
LOCATION:Ida Lee Park\, 380 Old Waterford Rd NW\, Leesburg\, VA\, 20176
END:VEVENT
BEGIN:VEVENT
DTSTART;TZID=UTC:20180626T183000
DTEND;TZID=UTC:20180626T210000
DTSTAMP:20260424T045215
CREATED:20180624T024852Z
LAST-MODIFIED:20180624T224109Z
UID:222-1530037800-1530046800@democratstogo.alexdems.org
SUMMARY:Phone Banking & Dems To Go Meeting
DESCRIPTION:We’ll be phonebanking at ADC Headquarters (618 N. Washington St.) to recruit volunteers to canvass with us in Virginia’s 10th Congressional District on June 30. \nThe people on our lists will be known Democratic volunteers in Leesburg\, so you won’t be cold-calling potentially hostile strangers. This is a good event for those who want to help but cannot canvass. \nWe will pause phone calls for a brief planning meeting at 7:30 p.m. to decide where we want to canvass this summer. Come and go as you have time. \nPlease use this form to sign up and let us know you’re attending: \n\n\n  \n\n\n\n Your Name (required)\n \n \n Your Email (required)\n \n \n Your Phone\n\n \nDo You Need a Ride?\nYesNo\n \n Any Additional Info
URL:https://democratstogo.alexdems.org/event/phone-banking-dems-to-go-meeting/
LOCATION:ADC Headquarters\, 618 N. Washington St.\, Alexandria\, VA\, 22314
END:VEVENT
BEGIN:VEVENT
DTSTART;TZID=UTC:20180605T190000
DTEND;TZID=UTC:20180605T210000
DTSTAMP:20260424T045215
CREATED:20180601T120826Z
LAST-MODIFIED:20180601T120826Z
UID:208-1528225200-1528232400@democratstogo.alexdems.org
SUMMARY:City Council Primary Debate
DESCRIPTION:Hear where the candidates stand just a week before the June 12 primaries!
URL:https://democratstogo.alexdems.org/event/city-council-primary-debate/
LOCATION:Francis C. Hammond Middle School\, 4646 Seminary Rd\, Alexandria\, VA\, 22304\, United States
END:VEVENT
BEGIN:VEVENT
DTSTART;TZID=UTC:20180604T193000
DTEND;TZID=UTC:20180604T210000
DTSTAMP:20260424T045215
CREATED:20180601T120448Z
LAST-MODIFIED:20180601T120448Z
UID:205-1528140600-1528146000@democratstogo.alexdems.org
SUMMARY:ADC Monthly Meeting
DESCRIPTION:NEW: Have kids? Bring them to the meeting! ADC‘s babysitting co-op is now in action and will watch your kids on-site during our meeting! \nThis is our last meeting before the June 12th Democratic Primary! \nAll are welcome! \nAnd\, as always\, bring canned goods for ALIVE. Please retrieve your name badge. That will qualify you for the door prize and serves as the proof that you attended the meeting. \nIf you are a Committee member and cannot attend\, please notify the Committee Secretary\, Mary Lyman\, by calling her on 703-845-1510 or email MSLyman@verizon.net. For more information call 703-549-3367.
URL:https://democratstogo.alexdems.org/event/adc-monthly-meeting/
LOCATION:Minnie Howard School\, 3801 West Braddock Rd\, Alexandria\, VA\, 22302\, United States
END:VEVENT
BEGIN:VEVENT
DTSTART;TZID=UTC:20180602T170000
DTEND;TZID=UTC:20180602T190000
DTSTAMP:20260424T045215
CREATED:20180509T143935Z
LAST-MODIFIED:20180601T120104Z
UID:178-1527958800-1527966000@democratstogo.alexdems.org
SUMMARY:Dining for Delegates: Re-Elect Wendy Gooditis
DESCRIPTION:We worked so hard in 2017 to flip 15 House of Delegate seats in Virginia. Our fundraising and door knocking paid off\, but now we have to make sure we keep these great freshmen legislators in the House!! Join us in supporting one of our Delegate Mark Levine’s new friends\, the fabulous Wendy Gooditis! \nThe event will be held in Del Ray\, Alexandria (exact location on RSVP or email IDR.elections to RSVP & pay by check). \nThis early support not only helps free up Wendy’s time to be talking to voters instead of fundraising\, but it helps her hit the ground running in her re-election bid. \nWendy: \n\nhas a master’s in education\,\nis a strong supporter of education and Medicaid expansion\nfounded her local chapter of Indivisible\nis a very strong proponent of redistricting reform to end partisan gerrymandering in VA\nis predicted to have one of the toughest reelection campaigns in NOVA next year\, so early support like this is critical\nThe dinner theme is salad (Southwest chicken chop salad\, tomato and feta\, Chinese noodle\, just to name a few).\n\nClick the website link below to RSVP!
URL:https://democratstogo.alexdems.org/event/dining-for-delegates-re-elect-wendy-gooditis/
LOCATION:Del Ray (exact location upon RSVP)\, Alexandria\, VA\, United States
CATEGORIES:Fundraising
END:VEVENT
BEGIN:VEVENT
DTSTART;TZID=UTC:20180512T093000
DTEND;TZID=UTC:20180512T160000
DTSTAMP:20260424T045215
CREATED:20180509T150028Z
LAST-MODIFIED:20180509T150229Z
UID:189-1526117400-1526140800@democratstogo.alexdems.org
SUMMARY:Canvass with Del. David Reid in Ashburn
DESCRIPTION:Following up on our recent District 10 canvassing expedition\, we are laying more groundwork for a great midterm with another trip to CD10 for canvassing. \nTime: Training at 9:30 a.m.\, canvassing starts at 10 a.m. \nSite: Meet at 20937 Ashburn Rd.\, Ashburn\, Va. \nInfo: We’ll canvass with Del. David Reid in the Ashburn/Brambleton area of District 10 in an event very similar to the April 7 canvas with Donte Tanner. This is Rep. Barbara Comstock’s district\, so all contacts we make will benefit Reid\, Sen. Tim Kaine\, and the eventual candidate who will face off against Comstock. \nSign Up Today!\n\n\n  \n\n\n\n Your Name (required)\n \n \n Your Email (required)\n \n \n Your Phone\n\n \nWhich Event Are You Signing Up For?\nPhonebank (June 26)Canvass (June 30)Both\n \nDo You Need a Ride?\nYesNo\n \n Comments/Questions?\n \n \n\n \n\n\n\n 
URL:https://democratstogo.alexdems.org/event/canvass-with-del-david-reid-in-ashburn/
LOCATION:20937 Ashburn Rd.\, Ashburn VA\, 20937 Ashburn Rd\, Ashburn\, VA\, 20147\, United States
CATEGORIES:Canvassing
END:VEVENT
END:VCALENDAR